BEGIN:VCALENDAR
VERSION:2.0
PRODID:-//Soergel Orchards - ECPv6.15.20//NONSGML v1.0//EN
CALSCALE:GREGORIAN
METHOD:PUBLISH
X-ORIGINAL-URL:https://soergels.com
X-WR-CALDESC:Events for Soergel Orchards
REFRESH-INTERVAL;VALUE=DURATION:PT1H
X-Robots-Tag:noindex
X-PUBLISHED-TTL:PT1H
BEGIN:VTIMEZONE
TZID:America/Halifax
BEGIN:DAYLIGHT
TZOFFSETFROM:-0400
TZOFFSETTO:-0300
TZNAME:ADT
DTSTART:20230312T060000
END:DAYLIGHT
BEGIN:STANDARD
TZOFFSETFROM:-0300
TZOFFSETTO:-0400
TZNAME:AST
DTSTART:20231105T050000
END:STANDARD
BEGIN:DAYLIGHT
TZOFFSETFROM:-0400
TZOFFSETTO:-0300
TZNAME:ADT
DTSTART:20240310T060000
END:DAYLIGHT
BEGIN:STANDARD
TZOFFSETFROM:-0300
TZOFFSETTO:-0400
TZNAME:AST
DTSTART:20241103T050000
END:STANDARD
BEGIN:DAYLIGHT
TZOFFSETFROM:-0400
TZOFFSETTO:-0300
TZNAME:ADT
DTSTART:20250309T060000
END:DAYLIGHT
BEGIN:STANDARD
TZOFFSETFROM:-0300
TZOFFSETTO:-0400
TZNAME:AST
DTSTART:20251102T050000
END:STANDARD
END:VTIMEZONE
BEGIN:VEVENT
DTSTART;TZID=America/Halifax:20241214T160000
DTEND;TZID=America/Halifax:20241214T190000
DTSTAMP:20260424T074718
CREATED:20241124T130815Z
LAST-MODIFIED:20241124T130815Z
UID:11714-1734192000-1734202800@soergels.com
SUMMARY:Santa Claus Comes To Town!
DESCRIPTION:We are VERY excited to announce that Santa Claus is coming to the farm Saturday December 14th\, from 4-7 p.m. \nSanta will be in McIntosh Hall for a visit (free of charge!) \nBring your camera\, friends & family and your Christmas list to meet with Santa. We are not taking any reservations or reserving time slots. \nHe will arrive promptly at 4:00 and will be taking quick breaks occasionally through the night to check on his reindeer. \nAll of our departments will be open that night for shopping when you’re finished seeing Santa. We love seeing you for this special night!
URL:https://soergels.com/event/santa-claus-comes-to-town/
END:VEVENT
BEGIN:VEVENT
DTSTART;VALUE=DATE:20241217
DTEND;VALUE=DATE:20241218
DTSTAMP:20260424T074718
CREATED:20241214T233449Z
LAST-MODIFIED:20241214T233449Z
UID:11786-1734393600-1734479999@soergels.com
SUMMARY:Apple Sale
DESCRIPTION:All apples will be 20% off from December 17 – 24
URL:https://soergels.com/event/apple-sale/
END:VEVENT
BEGIN:VEVENT
DTSTART;VALUE=DATE:20241218
DTEND;VALUE=DATE:20241219
DTSTAMP:20260424T074718
CREATED:20241214T233516Z
LAST-MODIFIED:20241214T233516Z
UID:11788-1734480000-1734566399@soergels.com
SUMMARY:Apple Sale
DESCRIPTION:All apples will be 20% off from December 17 – 24
URL:https://soergels.com/event/apple-sale-2/
END:VEVENT
BEGIN:VEVENT
DTSTART;VALUE=DATE:20241219
DTEND;VALUE=DATE:20241220
DTSTAMP:20260424T074718
CREATED:20241214T233533Z
LAST-MODIFIED:20241214T233533Z
UID:11790-1734566400-1734652799@soergels.com
SUMMARY:Apple Sale
DESCRIPTION:All apples will be 20% off from December 17 – 24
URL:https://soergels.com/event/apple-sale-3/
END:VEVENT
BEGIN:VEVENT
DTSTART;VALUE=DATE:20241220
DTEND;VALUE=DATE:20241221
DTSTAMP:20260424T074718
CREATED:20241214T233628Z
LAST-MODIFIED:20241214T233628Z
UID:11792-1734652800-1734739199@soergels.com
SUMMARY:Apple Sale
DESCRIPTION:All apples will be 20% off from December 17 – 24
URL:https://soergels.com/event/apple-sale-4/
END:VEVENT
BEGIN:VEVENT
DTSTART;VALUE=DATE:20241221
DTEND;VALUE=DATE:20241222
DTSTAMP:20260424T074718
CREATED:20241214T233648Z
LAST-MODIFIED:20241214T233648Z
UID:11794-1734739200-1734825599@soergels.com
SUMMARY:Apple Sale
DESCRIPTION:All apples will be 20% off from December 17 – 24
URL:https://soergels.com/event/apple-sale-5/
END:VEVENT
BEGIN:VEVENT
DTSTART;VALUE=DATE:20241222
DTEND;VALUE=DATE:20241223
DTSTAMP:20260424T074718
CREATED:20241214T233714Z
LAST-MODIFIED:20241214T233714Z
UID:11797-1734825600-1734911999@soergels.com
SUMMARY:Apple Sale
DESCRIPTION:All apples will be 20% off from December 17 – 24
URL:https://soergels.com/event/apple-sale-6/
END:VEVENT
BEGIN:VEVENT
DTSTART;VALUE=DATE:20241223
DTEND;VALUE=DATE:20241224
DTSTAMP:20260424T074718
CREATED:20241214T233734Z
LAST-MODIFIED:20241214T233734Z
UID:11799-1734912000-1734998399@soergels.com
SUMMARY:Apple Sale
DESCRIPTION:All apples will be 20% off from December 17 – 24
URL:https://soergels.com/event/apple-sale-7/
END:VEVENT
BEGIN:VEVENT
DTSTART;TZID=America/Halifax:20241226T090000
DTEND;TZID=America/Halifax:20241226T140000
DTSTAMP:20260424T074718
CREATED:20241225T193832Z
LAST-MODIFIED:20241225T193832Z
UID:11829-1735203600-1735221600@soergels.com
SUMMARY:After Christmas Sale
DESCRIPTION:50% off all Christmas items and houseplants in Home Accents and Greenhouse.  Please note: The market\, gift barn\, and Naturally Soergel’s are closed until 1/14
URL:https://soergels.com/event/after-christmas-sale/
END:VEVENT
END:VCALENDAR